BEGIN:VCALENDAR
VERSION:2.0
PRODID:-//Mobile 3D Mammography - ECPv5.7.0//NONSGML v1.0//EN
CALSCALE:GREGORIAN
METHOD:PUBLISH
X-WR-CALNAME:Mobile 3D Mammography
X-ORIGINAL-URL:https://www.mobile3dkc.com
X-WR-CALDESC:Events for Mobile 3D Mammography
BEGIN:VTIMEZONE
TZID:America/Chicago
BEGIN:DAYLIGHT
TZOFFSETFROM:-0600
TZOFFSETTO:-0500
TZNAME:CDT
DTSTART:20260308T080000
END:DAYLIGHT
BEGIN:STANDARD
TZOFFSETFROM:-0500
TZOFFSETTO:-0600
TZNAME:CST
DTSTART:20261101T070000
END:STANDARD
END:VTIMEZONE
BEGIN:VEVENT
DTSTART;TZID=America/Chicago:20260512T073000
DTEND;TZID=America/Chicago:20260512T113000
DTSTAMP:20260424T125856
CREATED:20260211T223138Z
LAST-MODIFIED:20260309T184921Z
UID:4124-1778571000-1778585400@www.mobile3dkc.com
SUMMARY:Pleasant Lea Middle & Elementary
DESCRIPTION:
URL:https://www.mobile3dkc.com/event/pleasant-lea-middle-elementary/
LOCATION:Pleasant Lea Middle School\, 630 SW Persels Rd\, Lee's Summit\, MO\, 64081\, United States
CATEGORIES:Private
END:VEVENT
END:VCALENDAR