BEGIN:VCALENDAR
VERSION:2.0
PRODID:-//Mobile 3D Mammography - ECPv5.7.0//NONSGML v1.0//EN
CALSCALE:GREGORIAN
METHOD:PUBLISH
X-WR-CALNAME:Mobile 3D Mammography
X-ORIGINAL-URL:https://www.mobile3dkc.com
X-WR-CALDESC:Events for Mobile 3D Mammography
BEGIN:VTIMEZONE
TZID:America/Chicago
BEGIN:DAYLIGHT
TZOFFSETFROM:-0600
TZOFFSETTO:-0500
TZNAME:CDT
DTSTART:20250309T080000
END:DAYLIGHT
BEGIN:STANDARD
TZOFFSETFROM:-0500
TZOFFSETTO:-0600
TZNAME:CST
DTSTART:20251102T070000
END:STANDARD
END:VTIMEZONE
BEGIN:VEVENT
DTSTART;TZID=America/Chicago:20250306T080000
DTEND;TZID=America/Chicago:20250306T120000
DTSTAMP:20260425T164828
CREATED:20250205T155248Z
LAST-MODIFIED:20250226T165104Z
UID:3390-1741248000-1741262400@www.mobile3dkc.com
SUMMARY:MRIGlobal
DESCRIPTION:
URL:https://www.mobile3dkc.com/event/mriglobal/
LOCATION:MRI Global\, 425 Dr Martin Luther King Blvd\, Kansas City\, MO\, 64110\, United States
CATEGORIES:Private
END:VEVENT
END:VCALENDAR