BEGIN:VCALENDAR
VERSION:2.0
PRODID:-//Mobile 3D Mammography - ECPv5.7.0//NONSGML v1.0//EN
CALSCALE:GREGORIAN
METHOD:PUBLISH
X-WR-CALNAME:Mobile 3D Mammography
X-ORIGINAL-URL:https://www.mobile3dkc.com
X-WR-CALDESC:Events for Mobile 3D Mammography
BEGIN:VTIMEZONE
TZID:America/Chicago
BEGIN:DAYLIGHT
TZOFFSETFROM:-0600
TZOFFSETTO:-0500
TZNAME:CDT
DTSTART:20230312T080000
END:DAYLIGHT
BEGIN:STANDARD
TZOFFSETFROM:-0500
TZOFFSETTO:-0600
TZNAME:CST
DTSTART:20231105T070000
END:STANDARD
END:VTIMEZONE
BEGIN:VEVENT
DTSTART;TZID=America/Chicago:20231115T133000
DTEND;TZID=America/Chicago:20231115T173000
DTSTAMP:20260424T162502
CREATED:20230612T174306Z
LAST-MODIFIED:20230612T174306Z
UID:2184-1700055000-1700069400@www.mobile3dkc.com
SUMMARY:CenterWell Raytown (private)
DESCRIPTION:This is a private event. To schedule\, call CenterWell: 816-946-6930.
URL:https://www.mobile3dkc.com/event/centerwell-raytown-private-4/
CATEGORIES:Private
END:VEVENT
END:VCALENDAR